BEGIN:VCALENDAR
VERSION:2.0
PRODID:-//Central Institute for the Deaf - ECPv6.15.20//NONSGML v1.0//EN
CALSCALE:GREGORIAN
METHOD:PUBLISH
X-WR-CALNAME:Central Institute for the Deaf
X-ORIGINAL-URL:https://cid.edu
X-WR-CALDESC:Events for Central Institute for the Deaf
REFRESH-INTERVAL;VALUE=DURATION:PT1H
X-Robots-Tag:noindex
X-PUBLISHED-TTL:PT1H
BEGIN:VTIMEZONE
TZID:UTC
BEGIN:STANDARD
TZOFFSETFROM:+0000
TZOFFSETTO:+0000
TZNAME:UTC
DTSTART:20230101T000000
END:STANDARD
END:VTIMEZONE
BEGIN:VEVENT
DTSTART;TZID=UTC:20240420T140000
DTEND;TZID=UTC:20240420T160000
DTSTAMP:20260421T001909
CREATED:20240327T181858Z
LAST-MODIFIED:20240404T035847Z
UID:10000242-1713621600-1713628800@cid.edu
SUMMARY:CID Young Alumni Bowling
DESCRIPTION:4-20-24CID Young Alumni and Friends Club bowling flyer
URL:https://cid.edu/event/cid-young-alumni-bowling/
CATEGORIES:featured
ATTACH;FMTTYPE=image/jpeg:https://cid.edu/wp-content/uploads/2024/01/bowlingtheone.jpg
END:VEVENT
END:VCALENDAR